BEGIN:VCALENDAR
VERSION:2.0
PRODID:-//NCCU Wesley - ECPv5.10.0//NONSGML v1.0//EN
CALSCALE:GREGORIAN
METHOD:PUBLISH
X-WR-CALNAME:NCCU Wesley
X-ORIGINAL-URL:https://nccuwesley.org
X-WR-CALDESC:Events for NCCU Wesley
BEGIN:VTIMEZONE
TZID:America/New_York
BEGIN:DAYLIGHT
TZOFFSETFROM:-0500
TZOFFSETTO:-0400
TZNAME:EDT
DTSTART:20200308T070000
END:DAYLIGHT
BEGIN:STANDARD
TZOFFSETFROM:-0400
TZOFFSETTO:-0500
TZNAME:EST
DTSTART:20201101T060000
END:STANDARD
END:VTIMEZONE
BEGIN:VEVENT
DTSTART;TZID=America/New_York:20200211T200000
DTEND;TZID=America/New_York:20200211T220000
DTSTAMP:20260423T011933
CREATED:20200211T211329Z
LAST-MODIFIED:20200211T212243Z
UID:1197-1581451200-1581458400@nccuwesley.org
SUMMARY:Transformation Tuesday
DESCRIPTION:All are welcome at Transformation Tuesday! \nCome out to enjoy fellowship\, pizza and God’s Holy Word! TONIGHT @8PM in the  \nA.E. Student Union  \nDon’t forget to bring a friend!
URL:https://nccuwesley.org/event/transformation-tuesday/
LOCATION:A. E. Student Union at NCCU
ATTACH;FMTTYPE=image/png:https://nccuwesley.org/wp-content/uploads/2020/02/Screen-Shot-2020-02-11-at-4.12.02-PM.png
END:VEVENT
END:VCALENDAR