BEGIN:VCALENDAR
VERSION:2.0
PRODID:-//NCCU Wesley - ECPv5.10.0//NONSGML v1.0//EN
CALSCALE:GREGORIAN
METHOD:PUBLISH
X-WR-CALNAME:NCCU Wesley
X-ORIGINAL-URL:https://nccuwesley.org
X-WR-CALDESC:Events for NCCU Wesley
BEGIN:VTIMEZONE
TZID:UTC
BEGIN:STANDARD
TZOFFSETFROM:+0000
TZOFFSETTO:+0000
TZNAME:UTC
DTSTART:20200101T000000
END:STANDARD
END:VTIMEZONE
BEGIN:VEVENT
DTSTART;TZID=UTC:20200908T080000
DTEND;TZID=UTC:20200908T170000
DTSTAMP:20260421T122845
CREATED:20200908T142755Z
LAST-MODIFIED:20200908T142755Z
UID:2331-1599552000-1599584400@nccuwesley.org
SUMMARY:Transformation Tuesday 9.8
DESCRIPTION:Tell A Friend To Bring A Friend!\nTransformation Tuesday Tonight\n@ 8:00PM via Zoom.\nCome\, enjoy a night of fun\, games\, prizes and God’s Holy Word!\nRegister in the link below:\nhttps://nccumc.zoom.us/meeting/register/tJIqdu6oqTgqHNca068DCt8NQTzRghYK84Aj
URL:https://nccuwesley.org/event/transformation-tuesday-9-8/
ATTACH;FMTTYPE=image/jpeg:https://nccuwesley.org/wp-content/uploads/2020/09/4A97E2F5-1049-43B5-9331-1FA99EBDD086.jpeg
END:VEVENT
END:VCALENDAR