BEGIN:VCALENDAR
VERSION:2.0
PRODID:-//NCCU Wesley - ECPv5.10.0//NONSGML v1.0//EN
CALSCALE:GREGORIAN
METHOD:PUBLISH
X-WR-CALNAME:NCCU Wesley
X-ORIGINAL-URL:https://nccuwesley.org
X-WR-CALDESC:Events for NCCU Wesley
BEGIN:VTIMEZONE
TZID:America/New_York
BEGIN:DAYLIGHT
TZOFFSETFROM:-0500
TZOFFSETTO:-0400
TZNAME:EDT
DTSTART:20200308T070000
END:DAYLIGHT
BEGIN:STANDARD
TZOFFSETFROM:-0400
TZOFFSETTO:-0500
TZNAME:EST
DTSTART:20201101T060000
END:STANDARD
END:VTIMEZONE
BEGIN:VEVENT
DTSTART;TZID=America/New_York:20200825T200000
DTEND;TZID=America/New_York:20200825T213000
DTSTAMP:20260421T172844
CREATED:20200825T152108Z
LAST-MODIFIED:20200825T152108Z
UID:2261-1598385600-1598391000@nccuwesley.org
SUMMARY:Transformation Tuesday 8.25
DESCRIPTION:👀 That’s Right! \nTransformation Tuesday is BACK! TONIGHT@8PM. \nFun! Games! Prizes! \nNCCU Office of Spiritual Development & Dialogue is excited to welcome Y-O-U back\, tonight at 8 PM via zoom! Don’t forget to invite a friend! 👀 \nhttps://nccumc.zoom.us/meeting/register/tJIqdu6oqTgqHNca068DCt8NQTzRghYK84Aj
URL:https://nccuwesley.org/event/transformation-tuesday-8-25/
END:VEVENT
END:VCALENDAR