BEGIN:VCALENDAR
VERSION:2.0
PRODID:-//NCCU Wesley - ECPv5.10.0//NONSGML v1.0//EN
CALSCALE:GREGORIAN
METHOD:PUBLISH
X-WR-CALNAME:NCCU Wesley
X-ORIGINAL-URL:https://nccuwesley.org
X-WR-CALDESC:Events for NCCU Wesley
BEGIN:VTIMEZONE
TZID:America/New_York
BEGIN:DAYLIGHT
TZOFFSETFROM:-0500
TZOFFSETTO:-0400
TZNAME:EDT
DTSTART:20200308T070000
END:DAYLIGHT
BEGIN:STANDARD
TZOFFSETFROM:-0400
TZOFFSETTO:-0500
TZNAME:EST
DTSTART:20201101T060000
END:STANDARD
END:VTIMEZONE
BEGIN:VEVENT
DTSTART;TZID=America/New_York:20200421T200000
DTEND;TZID=America/New_York:20200421T210000
DTSTAMP:20260422T014741
CREATED:20200421T141748Z
LAST-MODIFIED:20200421T141748Z
UID:1891-1587499200-1587502800@nccuwesley.org
SUMMARY:Transformation Tuesday 4.21
DESCRIPTION:Tonight is Transformation Tuesday @8PM via Zoom. \nJoin us tonight as we learn about giving the gift of gratitude! We all love gifts!You don’t want to miss this! \nLink –https://zoom.us/j/166916690
URL:https://nccuwesley.org/event/transformation-tuesday-4-21/
ATTACH;FMTTYPE=image/png:https://nccuwesley.org/wp-content/uploads/2020/04/NCCU-Office-of-Spiritual-Development-Dialogue-2.png
END:VEVENT
END:VCALENDAR