BEGIN:VCALENDAR
VERSION:2.0
PRODID:-//NCCU Wesley - ECPv5.10.0//NONSGML v1.0//EN
CALSCALE:GREGORIAN
METHOD:PUBLISH
X-WR-CALNAME:NCCU Wesley
X-ORIGINAL-URL:https://nccuwesley.org
X-WR-CALDESC:Events for NCCU Wesley
BEGIN:VTIMEZONE
TZID:America/New_York
BEGIN:DAYLIGHT
TZOFFSETFROM:-0500
TZOFFSETTO:-0400
TZNAME:EDT
DTSTART:20200308T070000
END:DAYLIGHT
BEGIN:STANDARD
TZOFFSETFROM:-0400
TZOFFSETTO:-0500
TZNAME:EST
DTSTART:20201101T060000
END:STANDARD
END:VTIMEZONE
BEGIN:VEVENT
DTSTART;TZID=America/New_York:20200324T200000
DTEND;TZID=America/New_York:20200324T210000
DTSTAMP:20260422T173844
CREATED:20200324T145540Z
LAST-MODIFIED:20200324T183120Z
UID:1688-1585080000-1585083600@nccuwesley.org
SUMMARY:Transformation Tuesday 3.24
DESCRIPTION:WE ARE BACK! We are truly in trying times\, but that will not stop us. Join us TONIGHT for Transformation Tuesday at 8pm via Zoom. We can’t wait to see you there! 😊 \nLink: https://zoom.us/j/166916690
URL:https://nccuwesley.org/event/transformation-tuesday-3-24/
ATTACH;FMTTYPE=image/png:https://nccuwesley.org/wp-content/uploads/2020/03/IMG_8330.png
END:VEVENT
END:VCALENDAR