BEGIN:VCALENDAR
VERSION:2.0
PRODID:-//NCCU Wesley - ECPv5.10.0//NONSGML v1.0//EN
CALSCALE:GREGORIAN
METHOD:PUBLISH
X-WR-CALNAME:NCCU Wesley
X-ORIGINAL-URL:https://nccuwesley.org
X-WR-CALDESC:Events for NCCU Wesley
BEGIN:VTIMEZONE
TZID:America/New_York
BEGIN:DAYLIGHT
TZOFFSETFROM:-0500
TZOFFSETTO:-0400
TZNAME:EDT
DTSTART:20200308T070000
END:DAYLIGHT
BEGIN:STANDARD
TZOFFSETFROM:-0400
TZOFFSETTO:-0500
TZNAME:EST
DTSTART:20201101T060000
END:STANDARD
END:VTIMEZONE
BEGIN:VEVENT
DTSTART;TZID=America/New_York:20200225T200000
DTEND;TZID=America/New_York:20200225T220000
DTSTAMP:20260422T191146
CREATED:20200315T052158Z
LAST-MODIFIED:20200315T052158Z
UID:1561-1582660800-1582668000@nccuwesley.org
SUMMARY:Transformation Tuesday 2.25
DESCRIPTION:DON’T FORGET!! \nTonight is Transformation Tuesday! Come out at 8pm in the A.E. Student Union for Pizza\, Fun\, Fellowship\, & God’s Holy Word!
URL:https://nccuwesley.org/event/transformation-tuesday-2-25/
LOCATION:A. E. Student Union at NCCU
ATTACH;FMTTYPE=image/png:https://nccuwesley.org/wp-content/uploads/2020/03/Picture18.png
END:VEVENT
END:VCALENDAR