BEGIN:VCALENDAR
VERSION:2.0
PRODID:-//NCCU Wesley - ECPv5.10.0//NONSGML v1.0//EN
CALSCALE:GREGORIAN
METHOD:PUBLISH
X-WR-CALNAME:NCCU Wesley
X-ORIGINAL-URL:https://nccuwesley.org
X-WR-CALDESC:Events for NCCU Wesley
BEGIN:VTIMEZONE
TZID:America/New_York
BEGIN:DAYLIGHT
TZOFFSETFROM:-0500
TZOFFSETTO:-0400
TZNAME:EDT
DTSTART:20200308T070000
END:DAYLIGHT
BEGIN:STANDARD
TZOFFSETFROM:-0400
TZOFFSETTO:-0500
TZNAME:EST
DTSTART:20201101T060000
END:STANDARD
END:VTIMEZONE
BEGIN:VEVENT
DTSTART;TZID=America/New_York:20200416T190000
DTEND;TZID=America/New_York:20200416T200000
DTSTAMP:20260422T052311
CREATED:20200416T172919Z
LAST-MODIFIED:20200416T172919Z
UID:1857-1587063600-1587067200@nccuwesley.org
SUMMARY:The Parables of Jesus
DESCRIPTION:What’s the REAL story? Jesus loved to tell stories to his disciples. What is YOUR story? Join in on Thursdays @ 7pm to hear real stories of hope for all! Use the link and password below for access! \nhttps://zoom.us/j/98804596938?pwd=L3E4b3VITGg2bTVodXI4Z0duY2gyQT09 \nPassword: 162656
URL:https://nccuwesley.org/event/the-parables-of-jesus/
ATTACH;FMTTYPE=image/jpeg:https://nccuwesley.org/wp-content/uploads/2020/04/IMG_9170.jpg
END:VEVENT
END:VCALENDAR