BEGIN:VCALENDAR
VERSION:2.0
PRODID:-//NCCU Wesley - ECPv5.10.0//NONSGML v1.0//EN
CALSCALE:GREGORIAN
METHOD:PUBLISH
X-WR-CALNAME:NCCU Wesley
X-ORIGINAL-URL:https://nccuwesley.org
X-WR-CALDESC:Events for NCCU Wesley
BEGIN:VTIMEZONE
TZID:America/New_York
BEGIN:DAYLIGHT
TZOFFSETFROM:-0500
TZOFFSETTO:-0400
TZNAME:EDT
DTSTART:20200308T070000
END:DAYLIGHT
BEGIN:STANDARD
TZOFFSETFROM:-0400
TZOFFSETTO:-0500
TZNAME:EST
DTSTART:20201101T060000
END:STANDARD
END:VTIMEZONE
BEGIN:VEVENT
DTSTART;TZID=America/New_York:20200329T133000
DTEND;TZID=America/New_York:20200329T150000
DTSTAMP:20260422T144326
CREATED:20200329T164748Z
LAST-MODIFIED:20200329T171354Z
UID:1725-1585488600-1585494000@nccuwesley.org
SUMMARY:Sunday Worship Service
DESCRIPTION:Follow @nccusdd on Instagram! The link for worship service TODAY is in our bio! \nhttps://zoom.us/j/118511780
URL:https://nccuwesley.org/event/sunday-worship-service/
ATTACH;FMTTYPE=image/jpeg:https://nccuwesley.org/wp-content/uploads/2020/03/FullSizeRender-3.jpeg
END:VEVENT
END:VCALENDAR