BEGIN:VCALENDAR
VERSION:2.0
PRODID:-//NCCU Wesley - ECPv5.10.0//NONSGML v1.0//EN
CALSCALE:GREGORIAN
METHOD:PUBLISH
X-WR-CALNAME:NCCU Wesley
X-ORIGINAL-URL:https://nccuwesley.org
X-WR-CALDESC:Events for NCCU Wesley
BEGIN:VTIMEZONE
TZID:America/New_York
BEGIN:DAYLIGHT
TZOFFSETFROM:-0500
TZOFFSETTO:-0400
TZNAME:EDT
DTSTART:20200308T070000
END:DAYLIGHT
BEGIN:STANDARD
TZOFFSETFROM:-0400
TZOFFSETTO:-0500
TZNAME:EST
DTSTART:20201101T060000
END:STANDARD
END:VTIMEZONE
BEGIN:VEVENT
DTSTART;TZID=America/New_York:20200816T130000
DTEND;TZID=America/New_York:20200816T143000
DTSTAMP:20260421T195213
CREATED:20200815T201900Z
LAST-MODIFIED:20200815T201900Z
UID:2244-1597582800-1597588200@nccuwesley.org
SUMMARY:NCCU Back to School Opening Worship Celebration
DESCRIPTION:Welcome back NCCU Family & Friends! The Office of Spiritual Development & Dialogue invites you to kick off the semester with worship and praise! Join us online this Sunday at 1:00 PM for an Eagle Experience!\nLink to join:\nhttps://victoriouspraise.org/echurch
URL:https://nccuwesley.org/event/nccu-back-to-school-opening-worship-celebration/
ATTACH;FMTTYPE=image/jpeg:https://nccuwesley.org/wp-content/uploads/2020/08/2250x2250.jpeg.510247ee78d6494b814000fb22f1e75b.large_.jpeg
END:VEVENT
END:VCALENDAR